Workbook
Name god: [1]Титульный!$F$13
Name org: [1]Титульный!$F$17

Sheet 1
A1: ПРЕДЛОЖЕНИЕ
A2: о размере цен (тарифов), долгосрочных параметров регулирования
A3: (вид цены (тарифа) на 2020-2022год
A4: (расчетный период регулирования)
A6: Общество с ограниченной ответственностью ""Заволжская сетевая компания" (ООО "ЗСК")
A7: (полное и сокращенное наименование юридического лица)
A8: _____________________________________________________________

Sheet Прил.1
A1: Приложение N 1
A2: к предложению о размере цен
A3: (тарифов), долгосрочных
A4: параметров регулирования
A6: Раздел 1. Информация об организации
A8: Полное наименование | C8: Общество с ограниченной ответственностью "Заволжская сетевая компания"
A9: Сокращенное наименование | C9: ООО "ЗСК"
A10: Место нахождения | C10: 432066, г.Ульяновск, ул. Шигаева, д.28, кор.1
A11: Фактический адрес | C11: 432066, г.Ульяновск, ул. Шигаева, д.28, кор.2
A12: ИНН | C12: 7327058153
A13: КПП | C13: 732701001
A14: Ф.И.О. руководителя | C14: Харьков Александр Васильевич
A15: Адрес электронной почты | C15: zsk_173@mail.ru
A16: Контактный телефон | C16: 88002221668
A17: Факс | C17: -

Sheet Прил.2
A1: Приложение N 2
A2: к предложению о размере цен
A3: (тарифов), долгосрочных
A4: параметров регулирования
A6: Раздел 2. Основные показатели деятельности организаций,
A7: относящихся к субъектам естественных монополий,
A8: а также коммерческого оператора оптового рынка
A9: электрической энергии (мощности)
A12: N п/п | B12: Наименование показателей | C12: Единица измерения | D12: Фактические показатели за год, предшествующий базовому периоду* | E12: Показатели, утвержденные на базовый период <1> | F12: Предложения на расчетный период регулирования
F13: 2020 | G13: 2021 | H13: 2022
A14: 1. | B14: Показатели эффективности деятельности организации
A15: 1.1. | B15: Выручка | C15: тыс. руб. | E15: =E30+1218.81 -> 11107.729 | F15: =F30+(392.17*3164.13)/1000 -> 23039.382 | G15: =G30+(393.17*3259.05)/1000 -> 23260.096 | H15: =H30+(392.17*3356.82)/1000 -> 23493.161 | I15: тариф потерь с ростом 1,03 ежегодно (с ндс)
A16: 1.2. | B16: Прибыль (убыток) от продаж | C16: тыс. руб. | E16: =76+676.7 -> 752.7 | F16: =76+666.46 -> 742.46 | G16: =76.6688+700 -> 776.6688 | H16: =77.34348544+750 -> 827.34349
A17: 1.3. | B17: EBITDA (прибыль до процентов, налогов и амортизации) | C17: тыс. руб. | E17: =E16+1060.22 -> 1812.92 | F17: =F16+2091.02 -> 2833.48 | G17: =G16+2091.02 -> 2867.6888 | H17: =H16+2091.02 -> 2918.3635
A18: 1.4. | B18: Чистая прибыль (убыток) | C18: тыс. руб. | E18: =E16-676.7 -> 76 | F18: =F16-666.46 -> 76 | G18: =G16-700 -> 76.6688 | H18: =H16-750 -> 77.343485
A19: 2. | B19: Показатели рентабельности организации
A20: 2.1. | B20: Рентабельность продаж (величина прибыли от продаж в каждом рубле выручки). Нормальное значение для данной отрасли от 9 процентов и более | C20: процент | E20: =E16/E15 -> 0.067763627 | F20: =F16/F15 -> 0.032225691 | G20: =G16/G15 -> 0.03339061 | H20: =H16/H15 -> 0.035216355
A21: 3. | B21: Показатели регулируемых видов деятельности организации
A22: 3.1. | B22: Расчетный объем услуг в части управления технологическими режимами <2> | C22: МВт
A23: 3.2. | B23: Расчетный объем услуг в части обеспечения надежности <2> | C23: МВт·ч
A24: 3.3. | B24: Заявленная мощность <3> | C24: МВт | E24: =E25/6000 -> 1.0873922 | F24: =F25/6000 -> 1.1708044 | G24: =G25/6000 -> 1.1708044 | H24: =H25/6000 -> 1.1708044
A25: 3.4. | B25: Объем полезного отпуска электроэнергии - всего <3> | C25: тыс. кВт·ч | E25: 6524.353 | F25: 7024.8261 | G25: 7024.8261 | H25: 7024.8261
A26: 3.5. | B26: Объем полезного отпуска электроэнергии населению и приравненным к нему категориям потребителей <3> | C26: тыс. кВт·ч | E26: 560.65669 | F26: 1098 | G26: 1098 | H26: 1098
A27: 3.6. | B27: Норматив потерь электрической энергии (с указанием реквизитов приказа Минэнерго России, которым утверждены нормативы) <3> | C27: процент | E27: 0.057324814 | F27: 0.052875 | G27: 0.052875 | H27: 0.052875
A28: 3.7. | B28: Реквизиты программы энергоэффективности (кем утверждена, дата утверждения, номер приказа) <3>
A29: 3.8. | B29: Суммарный объем производства и потребления электрической энергии участниками оптового рынка электрической энергии <4> | C29: МВт·ч
A30: 4. | B30: Необходимая валовая выручка по регулируемым видам деятельности организации - всего | C30: тыс. руб. | D30: =D31+D36+D37+D38 -> 0 | E30: =E31+E36+E37+E38 -> 9888.919 | F30: =F31+F36+F37+F38 -> 21798.505 | G30: =G31+G36+G37+G38 -> 21978.735 | H30: =H31+H36+H37+H38 -> 22176.716
A31: 4.1. | B31: Расходы, связанные с производством и реализацией <2>, <4>; подконтрольные расходы <3> - всего | C31: тыс. руб. | E31: 6749.67 | F31: 14280.771 | G31: 14406.442 | H31: 14533.218
B32: в том числе:
B33: оплата труда | C33: тыс. руб. | E33: 4289.43 | F33: 7805.76 | G33: 7874.4507 | H33: 7943.7459
B34: ремонт основных фондов | C34: тыс. руб. | E34: 1034.47 | F34: 3061.76 | G34: 3088.7035 | H34: 3115.8841
B35: материальные затраты | C35: тыс. руб. | E35: 516.78 | F35: 1963.531 | G35: 1980.8101 | H35: 1998.2412
A36: 4.2. | B36: Расходы, за исключением указанных в подпункте 4.1 <2>, <4>; неподконтрольные расходы <3> - всего <3> | C36: тыс. руб. | E36: 3139.249 | F36: 7517.7343 | G36: 7572.2937 | H36: 7643.498
A37: 4.3. | B37: Выпадающие, излишние доходы (расходы) прошлых лет; корректировки по итогам фактической деятельности | C37: тыс. руб. | E37: 0 | F37: 0 | G37: 0 | H37: 0
A38: 4.4. | B38: Инвестиции, осуществляемые за счет тарифных источников | C38: тыс. руб. | E38: 0 | F38: 0 | G38: 0 | H38: 0
A39: 4.4.1. | B39: Реквизиты инвестиционной программы (кем утверждена, дата утверждения, номер приказа)
B40: Справочно:
B41: Объем условных единиц <3> | C41: у.е. | E41: 407.326 | F41: =G41 -> 426.8634 | G41: =H41 -> 426.8634 | H41: 426.8634
B42: Операционные расходы на условную единицу <3> | C42: тыс. руб. (у.е.) | E42: =E31/E41 -> 16.570683 | F42: =F31/F41 -> 33.455131 | G42: =G31/G41 -> 33.749536 | H42: =H31/H41 -> 34.046532
A43: 5. | B43: Показатели численности персонала и фонда оплаты труда по регулируемым видам деятельности
...

Sheet Прил. 5
A1: Приложение N 5
A2: к предложению о размере цен
A3: (тарифов), долгосрочных
A4: параметров регулирования
A6: Раздел 3. Цены (тарифы) по регулируемым видам
A7: деятельности организации
A8: 2019-2023
A9: N п/п | B9: Наименование показателей | C9: Единица изменения | D9: Фактические показатели за год, предшествующий базовому периоду (2018) | F9: Показатели, утвержденные на базовый период <*> | H9: Предложения на расчетный период регулирования (2020г) | J9: Предложения на расчетный период регулирования (2021г) | L9: Предложения на расчетный период регулирования (2022г)
D10: 1-е полугодие | E10: 2-е полугодие | F10: 1-е полугодие | G10: 2-е полугодие | H10: 1-е полугодие | I10: 2-е полугодие | J10: 1-е полугодие | K10: 2-е полугодие | L10: 1-е полугодие | M10: 2-е полугодие
A11: 1. | B11: Для организаций, относящихся к субъектам естественных монополий
A12: 1.1. | B12: на услуги по оперативно-диспетчерскому управлению в электроэнергетике
B13: тариф на услуги по оперативно-диспетчерскому управлению в электроэнергетике в части управления технологическими режимами работы объектов электроэнергетики и энергопринимающих устройств потребителей электрической энергии, обеспечения функционирования технологической инфраструктуры оптового и розничных рынков, оказываемые открытым акционерным обществом "Системный оператор Единой энергетической системы" | C13: руб./МВт в мес.
B14: предельный максимальный уровень цен (тарифов) на услуги по оперативно-диспетчерскому управлению в электроэнергетике в части организации отбора исполнителей и оплаты услуг по обеспечению системной надежности, услуг по обеспечению вывода Единой энергетической системы России из аварийных ситуаций, услуг по формированию технологического резерва мощностей, оказываемых открытым акционерным обществом "Системный оператор Единой энергетической системы" | C14: руб./МВт·ч
A15: 1.2. | B15: услуги по передаче электрической энергии (мощности)
B17: ставка на содержание сетей | C17: руб./МВт в мес. | F17: =4859.54/Прил.2!E24/6*1000 -> 744830.94 | G17: =5029.38/Прил.2!E24/6*1000 -> 770862.64 | H17: =Прил.2!F30/Прил.2!F24/12*1000 -> 1551533.4 | I17: =H17*1.02 -> 1582564.1 | J17: =Прил.2!G30/Прил.2!G24/12*1000 -> 1564361.5 | K17: =J17*1.02 -> 1595648.8 | L17: =Прил.2!H30/Прил.2!H24/12*1000 -> 1578453.1 | M17: =L17*1.02 -> 1610022.1
B18: ставка на оплату технологического расхода (потерь) | C18: руб./МВт·ч | F18: =(605.23/(Прил.2!E25/2))*1000 -> 185.52951 | G18: =(613.58/(Прил.2!E25/2))*1000 -> 188.08915 | H18: =(392.17*3164.13)/Прил.2!F25 -> 176.64165 | I18: =H18*1.02 -> 180.17448 | J18: =(392.17*3259.05)/Прил.2!G25 -> 181.94068 | K18: =J18*1.02 -> 185.57949 | L18: =(392.17*3356.82)/Прил.2!H25 -> 187.39882 | M18: =L18*1.02 -> 191.14679
B19: одноставочный тариф | C19: руб./МВт·ч | F19: =((4859.54+605.23)/(Прил.2!E25/2))*1000 -> 1675.1914 | G19: =((5029.38+613.58)/(Прил.2!E25/2))*1000 -> 1729.8144 | H19: =Прил.2!F15/Прил.2!F25*1000 -> 3279.7085 | I19: =H19*1.02 -> 3345.3027 | J19: =Прил.2!G15/Прил.2!G25*1000 -> 3311.1277 | K19: =J19*1.02 -> 3377.3502 | L19: =Прил.2!H15/Прил.2!H25*1000 -> 3344.3049 | M19: =L19*1.02 -> 3411.191
A20: 2. | B20: На услуги коммерческого оператора оптового рынка электрической энергии (мощности) | C20: руб./МВт·ч
A21: 3. | B21: Для гарантирующих поставщиков
A22: 3.1. | B22: величина сбытовой надбавки для тарифной группы потребителей "население" и приравненных к нему категорий потребителей | C22: руб./МВт·ч
A23: 3.2. | B23: величина сбытовой надбавки для тарифной группы потребителей "сетевые организации, покупающие электрическую энергию для компенсации потерь электрической энергии" | C23: руб./МВт·ч
A24: 3.3. | B24: доходность продаж для прочих потребителей: | C24: процент
B25: менее 150 кВт | C25: процент
B26: от 150 кВт до 670 кВт | C26: процент
B27: от 670 кВт до 10 МВт | C27: процент
B28: не менее 10 МВт | C28: процент
A29: 4. | B29: Для генерирующих объектов
A30: 4.1. | B30: цена на электрическую энергию | C30: руб./тыс. кВт·ч
B31: в том числе топливная составляющая | C31: руб./тыс. кВт·ч
A32: 4.2. | B32: цена на генерирующую мощность | C32: руб./МВт в мес.
A33: 4.3. | B33: средний одноставочный тариф на тепловую энергию | C33: руб./Гкал
A34: 4.3.1. | B34: одноставочный тариф на горячее водоснабжение | C34: руб./Гкал
A35: 4.3.2. | B35: тариф на отборный пар давлением: | C35: руб./Гкал
B36: 1,2 - 2,5 кг/см2 | C36: руб./Гкал
B37: 2,5 - 7,0 кг/см2 | C37: руб./Гкал
B38: 7,0 - 13,0 кг/см2 | C38: руб./Гкал
B39: > 13 кг/см2 | C39: руб./Гкал
A40: 4.3.3. | B40: тариф на острый и редуцированный пар | C40: руб./Гкал
A41: 4.4. | B41: двухставочный тариф на тепловую энергию
A42: 4.4.1. | B42: ставка на содержание тепловой мощности | C42: руб./Гкал/ч в месяц
...

Sheet долгоср
A2: Долгосрочные параметры регулирования (при применении метода доходности инвестированного капитала или метода долгосрочной необходимой валовой выручки)
A3: ООО "ЗСК"
A5: № п/п | B5: Год | C5: Базовый уровень подконтрольных расходов | E5: Показатели уровня надёжности оказываемых услуг | G5: Показатель уровня качества осуществляемого технологического присоединения к сети (Птпр)
D6: Величина технологического расхода (потерь) электрической энергии | E6: Показатель средней продолжительности прекращения передачи электрической энергии на точку поставки (Пsaidi) | F6: Показатель средней частоты прекращения передачи электрической энергии на точку поставки (Пsaifi)
C7: млн.руб. | D7: %
A8: 1 | B8: 2 | C8: 3 | D8: 4 | E8: 5 | F8: 6 | G8: 7
A9: 0
A10: 1 | B10: 2020 | C10: 14.280771 | D10: =Прил.2!F27 -> 0.052875 | E10: =[2]ф.1.7!$D$10 -> 4.50546 | F10: =[2]ф.1.7!$D$11 -> 0.78503 | G10: 1 | H10: базовые с улучшением по 976 приказу мин.энерго
A11: 2 | B11: 2021 | C11: 14.406442 | D11: =D10 -> 0.052875 | E11: =[2]ф.1.7!$E$10 -> 4.43788 | F11: =[2]ф.1.7!$E$11 -> 0.77 | G11: 1
A12: 3 | B12: 2022 | C12: 14.533218 | D12: =D11 -> 0.052875 | E12: =[2]ф.1.7!$F$10 -> 4.37131 | F12: =[2]ф.1.7!$F$11 -> 0.756 | G12: 1
